BEGIN:VCALENDAR
VERSION:2.0
X-WR-CALNAME:Veranstaltungen
METHOD:PUBLISH
BEGIN:VEVENT
CLASS:PUBLIC
CREATED:20260426T050248Z
DESCRIPTION:nullEsch-sur-Alzette/ed-9549521
DTEND;TZID="Europe/Berlin":20260426T163000
DTSTAMP:20260426T050248Z
DTSTART;TZID="Europe/Berlin":20260426T150000
LAST-MODIFIED:20260426T050248Z
LOCATION:Ecole fondamentale Nonnewisen Place Adeline Pellegrino L-4149 ESCH-SUR-ALZETTE
PRIORITY:5
SEQUENCE:0
SUMMARY;LANGUAGE=de:Serious Game
TRANSP:OPAQUE
UID:20260426T050248Z-uidGen@cc5241d592a4
X-MICROSOFT-CDO-BUSYSTATUS:BUSY
X-MICROSOFT-CDO-IMPORTANCE:1
X-MS-OLK-AUTOFILLLOCATION:FALSE
BEGIN:VALARM
TRIGGER:-PT1440M
ACTION:DISPLAY
DESCRIPTION:Reminder
END:VALARM
END:VEVENT
END:VCALENDAR

