BEGIN:VCALENDAR
VERSION:2.0
X-WR-CALNAME:Veranstaltungen
METHOD:PUBLISH
BEGIN:VEVENT
CLASS:PUBLIC
CREATED:20260425T205130Z
DESCRIPTION:nullORT Minett/ed-9543492
DTEND;TZID="Europe/Berlin":20270417T221500
DTSTAMP:20260425T205130Z
DTSTART;TZID="Europe/Berlin":20270417T200000
LAST-MODIFIED:20260425T205130Z
LOCATION:Artikuss rue Jean Anen 3 L-4413 Soleuvre
PRIORITY:5
SEQUENCE:0
SUMMARY;LANGUAGE=de:SCALA & Kolacny Brothers
TRANSP:OPAQUE
UID:20260425T205130Z-uidGen@cc5241d592a4
X-MICROSOFT-CDO-BUSYSTATUS:BUSY
X-MICROSOFT-CDO-IMPORTANCE:1
X-MS-OLK-AUTOFILLLOCATION:FALSE
BEGIN:VALARM
TRIGGER:-PT1440M
ACTION:DISPLAY
DESCRIPTION:Reminder
END:VALARM
END:VEVENT
END:VCALENDAR

