BEGIN:VCALENDAR
VERSION:2.0
X-WR-CALNAME:Veranstaltungen
METHOD:PUBLISH
BEGIN:VEVENT
CLASS:PUBLIC
CREATED:20260425T221613Z
DESCRIPTION:nullORT Minett/ed-9543399
DTEND;TZID="Europe/Berlin":20260501T180000
DTSTAMP:20260425T221613Z
DTSTART;TZID="Europe/Berlin":20260501T110000
LAST-MODIFIED:20260425T221613Z
LOCATION:Minett Park Fond-de-Gras 1 L-4576 Differdange
PRIORITY:5
SEQUENCE:0
SUMMARY;LANGUAGE=de:Eröffnung der Saison und Kreativ Markt “Centrale Créative”
TRANSP:OPAQUE
UID:20260425T221613Z-uidGen@cc5241d592a4
X-MICROSOFT-CDO-BUSYSTATUS:BUSY
X-MICROSOFT-CDO-IMPORTANCE:1
X-MS-OLK-AUTOFILLLOCATION:FALSE
BEGIN:VALARM
TRIGGER:-PT1440M
ACTION:DISPLAY
DESCRIPTION:Reminder
END:VALARM
END:VEVENT
END:VCALENDAR

