BEGIN:VCALENDAR
VERSION:2.0
X-WR-CALNAME:Veranstaltungen
METHOD:PUBLISH
BEGIN:VEVENT
CLASS:PUBLIC
CREATED:20260425T044842Z
DESCRIPTION:nullORT Minett/ed-9543128
DTEND;TZID="Europe/Berlin":20260425T123000
DTSTAMP:20260425T044842Z
DTSTART;TZID="Europe/Berlin":20260425T110000
LAST-MODIFIED:20260425T044842Z
LOCATION:Beim Restaurant « Bei der Giedel » am Fond-de-Gras Fond-de-Gras 4 L-4576 Esch-sur-Alzette
PRIORITY:5
SEQUENCE:0
SUMMARY;LANGUAGE=de:Op de Spuere vum Eisenäerz aus der Jura Zäit - de geologesche Circuit am Giele Botter
TRANSP:OPAQUE
UID:20260425T044842Z-uidGen@cc5241d592a4
X-MICROSOFT-CDO-BUSYSTATUS:BUSY
X-MICROSOFT-CDO-IMPORTANCE:1
X-MS-OLK-AUTOFILLLOCATION:FALSE
BEGIN:VALARM
TRIGGER:-PT1440M
ACTION:DISPLAY
DESCRIPTION:Reminder
END:VALARM
END:VEVENT
END:VCALENDAR

